BEGIN:VCALENDAR
VERSION:2.0
PRODID:-//Laden Gislum - ECPv6.15.20//NONSGML v1.0//EN
CALSCALE:GREGORIAN
METHOD:PUBLISH
X-WR-CALNAME:Laden Gislum
X-ORIGINAL-URL:https://ladengislum.dk
X-WR-CALDESC:Begivenheder for Laden Gislum
REFRESH-INTERVAL;VALUE=DURATION:PT1H
X-Robots-Tag:noindex
X-PUBLISHED-TTL:PT1H
BEGIN:VTIMEZONE
TZID:Europe/Copenhagen
BEGIN:DAYLIGHT
TZOFFSETFROM:+0100
TZOFFSETTO:+0200
TZNAME:CEST
DTSTART:20250330T010000
END:DAYLIGHT
BEGIN:STANDARD
TZOFFSETFROM:+0200
TZOFFSETTO:+0100
TZNAME:CET
DTSTART:20251026T010000
END:STANDARD
BEGIN:DAYLIGHT
TZOFFSETFROM:+0100
TZOFFSETTO:+0200
TZNAME:CEST
DTSTART:20260329T010000
END:DAYLIGHT
BEGIN:STANDARD
TZOFFSETFROM:+0200
TZOFFSETTO:+0100
TZNAME:CET
DTSTART:20261025T010000
END:STANDARD
BEGIN:DAYLIGHT
TZOFFSETFROM:+0100
TZOFFSETTO:+0200
TZNAME:CEST
DTSTART:20270328T010000
END:DAYLIGHT
BEGIN:STANDARD
TZOFFSETFROM:+0200
TZOFFSETTO:+0100
TZNAME:CET
DTSTART:20271031T010000
END:STANDARD
END:VTIMEZONE
BEGIN:VEVENT
DTSTART;VALUE=DATE:20260222
DTEND;VALUE=DATE:20260223
DTSTAMP:20260423T003836
CREATED:20250904T084724Z
LAST-MODIFIED:20260127T084532Z
UID:1192-1771718400-1771804799@ladengislum.dk
SUMMARY:TOBY BEARD INTIM KONCERT 22/2
DESCRIPTION:  \n\n\n\n\n\n  \n\n\nTOBY BEARD INTIM KONCERT SØNDAG DEN 22. FEBRUAR 2026 KL. 14.00 – 16.30 \nKØB BILLET \n\n\n\n\n\n\n\n\n\nKom og oplev den australske sangerinde Toby Beard med band til intim koncert i Laden Gislum. \nMange kender hende i forvejen fra de sidste 4 gange hun har gæstet Haverslev\, andre fra Skagen Festivalen og Strib Vinter Festival. \nTil jer som endnu ikke har mødt den australske sangerinde\, vil I opleve en fantastisk person\, med en smittende livsglæde og en fed udstråling. Hun spiller folkemusik med strejf af soul\, blues og rock\, krydret med dejlige ballader. \nToby evner med sin personlighed og stemme\, at nå ud til publikum\, og har man først hørt hende en gang\, vil man gerne høre mere. \nHun har spillet opvarmning for navne som UB40 og Carlos Santana til store koncerter. \nVi er meget stolte af\, at hun endnu engang kommer helt fra Australien for at give os en dejlig musikoplevelse. \nVi håber meget\, at I vil bakke op om arrangementet og tage venner og naboer med til en hyggelig eftermiddag. \nBilletpris 210\,- pr. person inkl gebyr. \nDer skal sælges min 80 billetter i alt for at arrangementet bliver afholdt. \nSalg af drikkevarer i baren. \nParkering: Kør efter de grønne beachflag \nLaden Gislum\, Sjøstrupvej 48\, 9600 Aars \nSidste tilmelding inden 15. februar 2026. \nDu modtager en mail efter køb med bekræftelse på dit billetkøb\, som også fungerer som din billet til arrangementet. \n\n\n\nLYDKLIP: \nhttps://ladengislum.dk/wp-content/uploads/2025/09/Toby-Beard-2026.mp4\n 
URL:https://ladengislum.dk/kalender/toby-beard-intim-koncert/
LOCATION:Laden Gislum\, Sjøstrupvej 48\, Aars\, 9600\, Denmark
CATEGORIES:Åbne arrangementer
END:VEVENT
END:VCALENDAR