BEGIN:VCALENDAR
VERSION:2.0
PRODID:-//Laden Gislum - ECPv6.15.20//NONSGML v1.0//EN
CALSCALE:GREGORIAN
METHOD:PUBLISH
X-WR-CALNAME:Laden Gislum
X-ORIGINAL-URL:https://ladengislum.dk
X-WR-CALDESC:Begivenheder for Laden Gislum
REFRESH-INTERVAL;VALUE=DURATION:PT1H
X-Robots-Tag:noindex
X-PUBLISHED-TTL:PT1H
BEGIN:VTIMEZONE
TZID:Europe/Copenhagen
BEGIN:DAYLIGHT
TZOFFSETFROM:+0100
TZOFFSETTO:+0200
TZNAME:CEST
DTSTART:20250330T010000
END:DAYLIGHT
BEGIN:STANDARD
TZOFFSETFROM:+0200
TZOFFSETTO:+0100
TZNAME:CET
DTSTART:20251026T010000
END:STANDARD
BEGIN:DAYLIGHT
TZOFFSETFROM:+0100
TZOFFSETTO:+0200
TZNAME:CEST
DTSTART:20260329T010000
END:DAYLIGHT
BEGIN:STANDARD
TZOFFSETFROM:+0200
TZOFFSETTO:+0100
TZNAME:CET
DTSTART:20261025T010000
END:STANDARD
BEGIN:DAYLIGHT
TZOFFSETFROM:+0100
TZOFFSETTO:+0200
TZNAME:CEST
DTSTART:20270328T010000
END:DAYLIGHT
BEGIN:STANDARD
TZOFFSETFROM:+0200
TZOFFSETTO:+0100
TZNAME:CET
DTSTART:20271031T010000
END:STANDARD
END:VTIMEZONE
BEGIN:VEVENT
DTSTART;VALUE=DATE:20260419
DTEND;VALUE=DATE:20260420
DTSTAMP:20260422T214026
CREATED:20260109T142304Z
LAST-MODIFIED:20260407T041424Z
UID:1924-1776556800-1776643199@ladengislum.dk
SUMMARY:MUSIKFOREDRAG OM MICHAEL BUNDESEN 19/4
DESCRIPTION:MUSIKFOREDRAG OM MICHAEL BUNDESEN\nSØNDAG 19. APRIL 2026 KL. 12.00-15.00 \nKØB BILLET\n\nThomas Holst gæster igen Laden Gislum og kommer denne gang og fortæller om Michael Bundesen fra Shu-bi-dua. \nMichael Bundesen døde i 2020 og efterlod med sin fantastiske stemme et hul i den dansk musikhistorie. I mere end 38 år. var han stemmen og frontfiguren i Shu-bi-dua.\nThomas fortæller historien om Michael Bundesens liv\, hans opvækst\, tiden i Shu-bi-dua og livet efter blodpropperne som satte en stopper hans sang-karriere.\nMusikforedraget vil undervejs være krydret med Shu-bi-duas melodier og deres fantastiske tekstunivers.\nVil du høre historien om Michael Bundesen? \nDer serveres de legendariske søndagssnitter inden foredraget. Man kan købe kaffe og kage i pausen og der er salg af forskellige drikkevarer. \nPris: 165\,- \nMax 75 pladser\n\nParkering: Kør efter de grønne beachflag og p-skilte.\nLaden Gislum – Sjøstrupvej 48 – 9600 Aars \nTILMELDING SENEST 12. APRIL
URL:https://ladengislum.dk/kalender/musikforedrag-om-michael-bundesen-19-4/
CATEGORIES:Åbne arrangementer
END:VEVENT
END:VCALENDAR