BEGIN:VCALENDAR
VERSION:2.0
PRODID:-//Laden Gislum - ECPv6.15.20//NONSGML v1.0//EN
CALSCALE:GREGORIAN
METHOD:PUBLISH
X-WR-CALNAME:Laden Gislum
X-ORIGINAL-URL:https://ladengislum.dk
X-WR-CALDESC:Begivenheder for Laden Gislum
REFRESH-INTERVAL;VALUE=DURATION:PT1H
X-Robots-Tag:noindex
X-PUBLISHED-TTL:PT1H
BEGIN:VTIMEZONE
TZID:Europe/Copenhagen
BEGIN:DAYLIGHT
TZOFFSETFROM:+0100
TZOFFSETTO:+0200
TZNAME:CEST
DTSTART:20240331T010000
END:DAYLIGHT
BEGIN:STANDARD
TZOFFSETFROM:+0200
TZOFFSETTO:+0100
TZNAME:CET
DTSTART:20241027T010000
END:STANDARD
BEGIN:DAYLIGHT
TZOFFSETFROM:+0100
TZOFFSETTO:+0200
TZNAME:CEST
DTSTART:20250330T010000
END:DAYLIGHT
BEGIN:STANDARD
TZOFFSETFROM:+0200
TZOFFSETTO:+0100
TZNAME:CET
DTSTART:20251026T010000
END:STANDARD
BEGIN:DAYLIGHT
TZOFFSETFROM:+0100
TZOFFSETTO:+0200
TZNAME:CEST
DTSTART:20260329T010000
END:DAYLIGHT
BEGIN:STANDARD
TZOFFSETFROM:+0200
TZOFFSETTO:+0100
TZNAME:CET
DTSTART:20261025T010000
END:STANDARD
END:VTIMEZONE
BEGIN:VEVENT
DTSTART;VALUE=DATE:20250918
DTEND;VALUE=DATE:20250919
DTSTAMP:20260423T085811
CREATED:20250903T094655Z
LAST-MODIFIED:20250903T095730Z
UID:494-1758153600-1758239999@ladengislum.dk
SUMMARY:KREA KURSUS: SEPTEMBERHAVEN
DESCRIPTION:ALT GODT FRA SEPTEMBERHAVEN  \nTorsdag d. 18.9.2025 kl. 18.30-21.00 \nI aften vil Anette Smed Nielsen fra Vegger vise os\, hvordan man kan bruge alt det haven bugner af i september. \nHun viser 3 forskellige dekorationer\, som kan inspirere dig til\, hvordan du kan bruge det du har i din have. \nDu modtager en uge før kurset en mail med\, hvad du selv kan medbringe til kurset. \nDer vil være kaffe og kage undervejs. \nPris 100 kr. \nTilmelding senest 10.9.25 \nDer er 20 pladser. \nKøb billet her
URL:https://ladengislum.dk/kalender/krea-kursus-septemberhaven/
LOCATION:Laden Gislum\, Sjøstrupvej 48\, Aars\, 9600\, Denmark
CATEGORIES:Åbne arrangementer
END:VEVENT
END:VCALENDAR