BEGIN:VCALENDAR
VERSION:2.0
PRODID:-//Laden Gislum - ECPv6.15.20//NONSGML v1.0//EN
CALSCALE:GREGORIAN
METHOD:PUBLISH
X-WR-CALNAME:Laden Gislum
X-ORIGINAL-URL:https://ladengislum.dk
X-WR-CALDESC:Begivenheder for Laden Gislum
REFRESH-INTERVAL;VALUE=DURATION:PT1H
X-Robots-Tag:noindex
X-PUBLISHED-TTL:PT1H
BEGIN:VTIMEZONE
TZID:Europe/Copenhagen
BEGIN:DAYLIGHT
TZOFFSETFROM:+0100
TZOFFSETTO:+0200
TZNAME:CEST
DTSTART:20250330T010000
END:DAYLIGHT
BEGIN:STANDARD
TZOFFSETFROM:+0200
TZOFFSETTO:+0100
TZNAME:CET
DTSTART:20251026T010000
END:STANDARD
BEGIN:DAYLIGHT
TZOFFSETFROM:+0100
TZOFFSETTO:+0200
TZNAME:CEST
DTSTART:20260329T010000
END:DAYLIGHT
BEGIN:STANDARD
TZOFFSETFROM:+0200
TZOFFSETTO:+0100
TZNAME:CET
DTSTART:20261025T010000
END:STANDARD
BEGIN:DAYLIGHT
TZOFFSETFROM:+0100
TZOFFSETTO:+0200
TZNAME:CEST
DTSTART:20270328T010000
END:DAYLIGHT
BEGIN:STANDARD
TZOFFSETFROM:+0200
TZOFFSETTO:+0100
TZNAME:CET
DTSTART:20271031T010000
END:STANDARD
END:VTIMEZONE
BEGIN:VEVENT
DTSTART;VALUE=DATE:20260324
DTEND;VALUE=DATE:20260325
DTSTAMP:20260422T231233
CREATED:20260109T105526Z
LAST-MODIFIED:20260127T074343Z
UID:1921-1774310400-1774396799@ladengislum.dk
SUMMARY:KREA KURSUS PÅSKE 24/3
DESCRIPTION:KREA KURSUS “PÅSKE”\nTIRSDAG 24. MARTS 2026 KL. 18.30-21.00 \nKØB BILLET\n\nKom og lær 3 forskellige dekorationer med forår- og påsketema. \nAnette Smed Nielsen fra Vegger kommer og viser os\, hvordan man kan bruge materialer fra haven til fine forårs- og påsketing. \nDu modtager 1 uge før kurset en mail med\, hvad du skal medbringe til kurset. \nDer vil være kaffe og kage undervejs. \nPris: 100 kr inkl kaffe og kage \nDer er 20 pladser på kurset. \nTilmelding senest 17. marts 2026
URL:https://ladengislum.dk/kalender/krea-kursus-paaske-24-3/
CATEGORIES:Åbne arrangementer
END:VEVENT
END:VCALENDAR