BEGIN:VCALENDAR
VERSION:2.0
PRODID:-//Laden Gislum - ECPv6.15.20//NONSGML v1.0//EN
CALSCALE:GREGORIAN
METHOD:PUBLISH
X-WR-CALNAME:Laden Gislum
X-ORIGINAL-URL:https://ladengislum.dk
X-WR-CALDESC:Begivenheder for Laden Gislum
REFRESH-INTERVAL;VALUE=DURATION:PT1H
X-Robots-Tag:noindex
X-PUBLISHED-TTL:PT1H
BEGIN:VTIMEZONE
TZID:Europe/Copenhagen
BEGIN:DAYLIGHT
TZOFFSETFROM:+0100
TZOFFSETTO:+0200
TZNAME:CEST
DTSTART:20240331T010000
END:DAYLIGHT
BEGIN:STANDARD
TZOFFSETFROM:+0200
TZOFFSETTO:+0100
TZNAME:CET
DTSTART:20241027T010000
END:STANDARD
BEGIN:DAYLIGHT
TZOFFSETFROM:+0100
TZOFFSETTO:+0200
TZNAME:CEST
DTSTART:20250330T010000
END:DAYLIGHT
BEGIN:STANDARD
TZOFFSETFROM:+0200
TZOFFSETTO:+0100
TZNAME:CET
DTSTART:20251026T010000
END:STANDARD
BEGIN:DAYLIGHT
TZOFFSETFROM:+0100
TZOFFSETTO:+0200
TZNAME:CEST
DTSTART:20260329T010000
END:DAYLIGHT
BEGIN:STANDARD
TZOFFSETFROM:+0200
TZOFFSETTO:+0100
TZNAME:CET
DTSTART:20261025T010000
END:STANDARD
END:VTIMEZONE
BEGIN:VEVENT
DTSTART;VALUE=DATE:20251028
DTEND;VALUE=DATE:20251029
DTSTAMP:20260423T052530
CREATED:20250904T082657Z
LAST-MODIFIED:20250904T082747Z
UID:1152-1761609600-1761695999@ladengislum.dk
SUMMARY:KREA KURSUS: EFTERÅR\, BÆR OG GRENE
DESCRIPTION:EFTERÅR\, BÆR OG GRENE   \nTirsdag d. 28.10.2025 kl. 18.30-21.00 \nDet er efterår\, og der er masser af flotte dybe farver i naturen. \nAnette Smed Nielsen fra Vegger vil vise os\, hvordan vi kan bruge naturens materialer i dekorationer med efterårstema. \nDu modtager en uge før kurset en mail med\, hvad du kan medbringe til kurset. \nDer vil være kaffe og kage undervejs. \nPris 100 kr. \nTilmelding senest 20.10.2025 \nDer er 20 pladser. \nLæs mere og tilmelding: \nhttps://ladengislumshop.dk/shop/4-kurser/15-efteraar-baer-og-grene-28102025/
URL:https://ladengislum.dk/kalender/krea-kursus-efteraar-baer-og-grene/
LOCATION:Laden Gislum\, Sjøstrupvej 48\, Aars\, 9600\, Denmark
CATEGORIES:Åbne arrangementer
END:VEVENT
END:VCALENDAR