BEGIN:VCALENDAR
VERSION:2.0
PRODID:-//Laden Gislum - ECPv6.15.20//NONSGML v1.0//EN
CALSCALE:GREGORIAN
METHOD:PUBLISH
X-WR-CALNAME:Laden Gislum
X-ORIGINAL-URL:https://ladengislum.dk
X-WR-CALDESC:Begivenheder for Laden Gislum
REFRESH-INTERVAL;VALUE=DURATION:PT1H
X-Robots-Tag:noindex
X-PUBLISHED-TTL:PT1H
BEGIN:VTIMEZONE
TZID:Europe/Copenhagen
BEGIN:DAYLIGHT
TZOFFSETFROM:+0100
TZOFFSETTO:+0200
TZNAME:CEST
DTSTART:20240331T010000
END:DAYLIGHT
BEGIN:STANDARD
TZOFFSETFROM:+0200
TZOFFSETTO:+0100
TZNAME:CET
DTSTART:20241027T010000
END:STANDARD
BEGIN:DAYLIGHT
TZOFFSETFROM:+0100
TZOFFSETTO:+0200
TZNAME:CEST
DTSTART:20250330T010000
END:DAYLIGHT
BEGIN:STANDARD
TZOFFSETFROM:+0200
TZOFFSETTO:+0100
TZNAME:CET
DTSTART:20251026T010000
END:STANDARD
BEGIN:DAYLIGHT
TZOFFSETFROM:+0100
TZOFFSETTO:+0200
TZNAME:CEST
DTSTART:20260329T010000
END:DAYLIGHT
BEGIN:STANDARD
TZOFFSETFROM:+0200
TZOFFSETTO:+0100
TZNAME:CET
DTSTART:20261025T010000
END:STANDARD
END:VTIMEZONE
BEGIN:VEVENT
DTSTART;VALUE=DATE:20251125
DTEND;VALUE=DATE:20251126
DTSTAMP:20260423T052413
CREATED:20250904T083925Z
LAST-MODIFIED:20250904T083929Z
UID:1174-1764028800-1764115199@ladengislum.dk
SUMMARY:KREA KURSUS: ADVENT
DESCRIPTION:ADVENT  \nTirsdag d. 25.11.2025 kl. 18.30-21.00 \nIgen i år vil Anette Smed Nielsen fra Vegger vise os\, hvordan man kan lave flotte advent- og juledekorationer. \nHun viser 3 forskellige ting denne aften og du får mulighed for at lave noget ud fra det hun viser. \nDu modtager en uge før kurset en mail med\, hvad du selv kan medbringe til kurset. \nDer vil være kaffe og kage undervejs. \nPris 100 kr. \nTilmelding senest 17.11.2025 \nDer er 20 pladser. \nhttps://ladengislumshop.dk/shop/4-kurser/16-advent-25112025/
URL:https://ladengislum.dk/kalender/krea-kursus-advent/
LOCATION:Laden Gislum\, Sjøstrupvej 48\, Aars\, 9600\, Denmark
CATEGORIES:Åbne arrangementer
END:VEVENT
END:VCALENDAR