BEGIN:VCALENDAR
VERSION:2.0
PRODID:-//Laden Gislum - ECPv6.15.20//NONSGML v1.0//EN
CALSCALE:GREGORIAN
METHOD:PUBLISH
X-WR-CALNAME:Laden Gislum
X-ORIGINAL-URL:https://ladengislum.dk
X-WR-CALDESC:Begivenheder for Laden Gislum
REFRESH-INTERVAL;VALUE=DURATION:PT1H
X-Robots-Tag:noindex
X-PUBLISHED-TTL:PT1H
BEGIN:VTIMEZONE
TZID:Europe/Copenhagen
BEGIN:DAYLIGHT
TZOFFSETFROM:+0100
TZOFFSETTO:+0200
TZNAME:CEST
DTSTART:20250330T010000
END:DAYLIGHT
BEGIN:STANDARD
TZOFFSETFROM:+0200
TZOFFSETTO:+0100
TZNAME:CET
DTSTART:20251026T010000
END:STANDARD
BEGIN:DAYLIGHT
TZOFFSETFROM:+0100
TZOFFSETTO:+0200
TZNAME:CEST
DTSTART:20260329T010000
END:DAYLIGHT
BEGIN:STANDARD
TZOFFSETFROM:+0200
TZOFFSETTO:+0100
TZNAME:CET
DTSTART:20261025T010000
END:STANDARD
BEGIN:DAYLIGHT
TZOFFSETFROM:+0100
TZOFFSETTO:+0200
TZNAME:CEST
DTSTART:20270328T010000
END:DAYLIGHT
BEGIN:STANDARD
TZOFFSETFROM:+0200
TZOFFSETTO:+0100
TZNAME:CET
DTSTART:20271031T010000
END:STANDARD
END:VTIMEZONE
BEGIN:VEVENT
DTSTART;VALUE=DATE:20261208
DTEND;VALUE=DATE:20261209
DTSTAMP:20260423T102502
CREATED:20260110T063601Z
LAST-MODIFIED:20260127T080947Z
UID:1973-1796688000-1796774399@ladengislum.dk
SUMMARY:KREA KURSUS 8/12
DESCRIPTION:KREA KURSUS “JUL”\nTIRSDAG 8. DECEMBER 2026 KL. 18.30-21.00 \nKØB BILLET\n\nDet er julemåneden og de sidste dekorationer op til jul skal laves. \nAnette Smed Nielsen fra Vegger vil vise os forskellige julekranse og dekorationer. \nDu modtager en uge før kurset en mail med\, hvad du skal medbringe til kurset. \nDer vil være kaffe og kage undervejs. \nPris: 100 kr inkl kaffe og kage \n  \nTILMELDING SENEST 1. DECEMBER
URL:https://ladengislum.dk/kalender/krea-kursus-8-12/
CATEGORIES:Åbne arrangementer
END:VEVENT
END:VCALENDAR