BEGIN:VCALENDAR
VERSION:2.0
PRODID:-//Laden Gislum - ECPv6.15.20//NONSGML v1.0//EN
CALSCALE:GREGORIAN
METHOD:PUBLISH
X-WR-CALNAME:Laden Gislum
X-ORIGINAL-URL:https://ladengislum.dk
X-WR-CALDESC:Begivenheder for Laden Gislum
REFRESH-INTERVAL;VALUE=DURATION:PT1H
X-Robots-Tag:noindex
X-PUBLISHED-TTL:PT1H
BEGIN:VTIMEZONE
TZID:Europe/Copenhagen
BEGIN:DAYLIGHT
TZOFFSETFROM:+0100
TZOFFSETTO:+0200
TZNAME:CEST
DTSTART:20250330T010000
END:DAYLIGHT
BEGIN:STANDARD
TZOFFSETFROM:+0200
TZOFFSETTO:+0100
TZNAME:CET
DTSTART:20251026T010000
END:STANDARD
BEGIN:DAYLIGHT
TZOFFSETFROM:+0100
TZOFFSETTO:+0200
TZNAME:CEST
DTSTART:20260329T010000
END:DAYLIGHT
BEGIN:STANDARD
TZOFFSETFROM:+0200
TZOFFSETTO:+0100
TZNAME:CET
DTSTART:20261025T010000
END:STANDARD
BEGIN:DAYLIGHT
TZOFFSETFROM:+0100
TZOFFSETTO:+0200
TZNAME:CEST
DTSTART:20270328T010000
END:DAYLIGHT
BEGIN:STANDARD
TZOFFSETFROM:+0200
TZOFFSETTO:+0100
TZNAME:CET
DTSTART:20271031T010000
END:STANDARD
END:VTIMEZONE
BEGIN:VEVENT
DTSTART;VALUE=DATE:20261124
DTEND;VALUE=DATE:20261125
DTSTAMP:20260423T083726
CREATED:20260110T063019Z
LAST-MODIFIED:20260127T075953Z
UID:1970-1795478400-1795564799@ladengislum.dk
SUMMARY:KREA KURSUS 24/11
DESCRIPTION:KREA KURSUS “ADVENT”\nTIRSDAG 24. NOVEMBER 2026 KL. 18.30-21.00 \nKØB BILLET\n\nAnette Smed Nielsen fra Vegger vil igen i år vise os\, hvordan man kan lave flotte advent- og juledekorationer. \nHun viser 3 forskellige ting denne aften og du får mulighed for\, at lave noget ud fra det hun viser. \nDu modtager en uge før kurset en mail med\, hvad du selv skal medbringe til kurset. \nDer vil være kaffe og kage undervejs. \nPris: 100 kr inkl kaffe og kage \n  \nTILMELDING SENEST 17. NOVEMBER
URL:https://ladengislum.dk/kalender/krea-kursus-24-11/
CATEGORIES:Åbne arrangementer
END:VEVENT
END:VCALENDAR