BEGIN:VCALENDAR
VERSION:2.0
PRODID:-//Laden Gislum - ECPv6.15.20//NONSGML v1.0//EN
CALSCALE:GREGORIAN
METHOD:PUBLISH
X-WR-CALNAME:Laden Gislum
X-ORIGINAL-URL:https://ladengislum.dk
X-WR-CALDESC:Begivenheder for Laden Gislum
REFRESH-INTERVAL;VALUE=DURATION:PT1H
X-Robots-Tag:noindex
X-PUBLISHED-TTL:PT1H
BEGIN:VTIMEZONE
TZID:Europe/Copenhagen
BEGIN:DAYLIGHT
TZOFFSETFROM:+0100
TZOFFSETTO:+0200
TZNAME:CEST
DTSTART:20250330T010000
END:DAYLIGHT
BEGIN:STANDARD
TZOFFSETFROM:+0200
TZOFFSETTO:+0100
TZNAME:CET
DTSTART:20251026T010000
END:STANDARD
BEGIN:DAYLIGHT
TZOFFSETFROM:+0100
TZOFFSETTO:+0200
TZNAME:CEST
DTSTART:20260329T010000
END:DAYLIGHT
BEGIN:STANDARD
TZOFFSETFROM:+0200
TZOFFSETTO:+0100
TZNAME:CET
DTSTART:20261025T010000
END:STANDARD
BEGIN:DAYLIGHT
TZOFFSETFROM:+0100
TZOFFSETTO:+0200
TZNAME:CEST
DTSTART:20270328T010000
END:DAYLIGHT
BEGIN:STANDARD
TZOFFSETFROM:+0200
TZOFFSETTO:+0100
TZNAME:CET
DTSTART:20271031T010000
END:STANDARD
END:VTIMEZONE
BEGIN:VEVENT
DTSTART;VALUE=DATE:20261128
DTEND;VALUE=DATE:20261129
DTSTAMP:20260423T083726
CREATED:20260110T070532Z
LAST-MODIFIED:20260127T080057Z
UID:1980-1795824000-1795910399@ladengislum.dk
SUMMARY:JULEFROKOST I LADEN 28/11
DESCRIPTION:JULEFROKOST I LADEN\nLØRDAG 28. NOVEMBER 2026 KL. 18.00-01.00 \nKØB BILLET\n\nKom til årets julefrokost i Laden Gislum. Der serveres en lækker traditionel julebuffet. \nMorten Bech Band leverer musikken som duo med sangerinde. De kommer med et meget bredt og alsidigt repertoire for flere aldersgrupper\, og tager også imod ønsker fra gæsterne. \nBaren er åben hele aftenen med en bred vifte af drikkevarer. \nAd libitum drikkevarer med øl\, vin og vand hele aftenen og natmad kan tilkøbes efter ønske. \n  \nPRIS for julefrokost med livemusik og stor lækker julebuffet 395 kr \nTILKØB: \nAd libitum drikkevarer med øl\, vin og vand 18.00-01.00 KUN 295 kr\nNatmad: Suppe med brød 60 kr \n  \nDørene åbnes kl 17.30. Man kan komme til at sidde sammen med dem\, som man tilmelder sig med. \n  \nParkering: Kør efter de grønne beachflag og p-skilte \nLaden Gislum – Sjøstrupvej 48 – 9600 Aars \n  \nSIDSTE TILMELDING 21. NOVEMBER
URL:https://ladengislum.dk/kalender/julefrokost-i-laden-28-11/
CATEGORIES:Åbne arrangementer
END:VEVENT
END:VCALENDAR