BEGIN:VCALENDAR
VERSION:2.0
PRODID:-//Laden Gislum - ECPv6.15.20//NONSGML v1.0//EN
CALSCALE:GREGORIAN
METHOD:PUBLISH
X-WR-CALNAME:Laden Gislum
X-ORIGINAL-URL:https://ladengislum.dk
X-WR-CALDESC:Begivenheder for Laden Gislum
REFRESH-INTERVAL;VALUE=DURATION:PT1H
X-Robots-Tag:noindex
X-PUBLISHED-TTL:PT1H
BEGIN:VTIMEZONE
TZID:Europe/Copenhagen
BEGIN:DAYLIGHT
TZOFFSETFROM:+0100
TZOFFSETTO:+0200
TZNAME:CEST
DTSTART:20250330T010000
END:DAYLIGHT
BEGIN:STANDARD
TZOFFSETFROM:+0200
TZOFFSETTO:+0100
TZNAME:CET
DTSTART:20251026T010000
END:STANDARD
BEGIN:DAYLIGHT
TZOFFSETFROM:+0100
TZOFFSETTO:+0200
TZNAME:CEST
DTSTART:20260329T010000
END:DAYLIGHT
BEGIN:STANDARD
TZOFFSETFROM:+0200
TZOFFSETTO:+0100
TZNAME:CET
DTSTART:20261025T010000
END:STANDARD
BEGIN:DAYLIGHT
TZOFFSETFROM:+0100
TZOFFSETTO:+0200
TZNAME:CEST
DTSTART:20270328T010000
END:DAYLIGHT
BEGIN:STANDARD
TZOFFSETFROM:+0200
TZOFFSETTO:+0100
TZNAME:CET
DTSTART:20271031T010000
END:STANDARD
END:VTIMEZONE
BEGIN:VEVENT
DTSTART;VALUE=DATE:20260621
DTEND;VALUE=DATE:20260622
DTSTAMP:20260423T004426
CREATED:20260110T050952Z
LAST-MODIFIED:20260110T083841Z
UID:1943-1782000000-1782086399@ladengislum.dk
SUMMARY:HAVE-KIG 21/6
DESCRIPTION:HAVE-KIG\nSØNDAG 21. JUNI 2026 KL. 13.30-16.30  \nGRATIS ENTRE OG INGEN TILMELDING \nKom og få en hyggelig eftermiddag og se Laden Gislums parklignende have om sommeren. \nDer er opstillet forskellige spil til dem der har lyst. \nDer kan købes kaffe og kage samt drikkevarer i gildesalen\, hvor man kan sidde og nyde en forfriskning. \nMan er også velkommen til at sidde på en af de store terrasser og nyde det gode vejr og stemningen. \n  \nParkering: Kør efter de grønne beachflag og p-skilte. \nLaden Gislum – Sjøstrupvej 48 – 9600 Aars \n 
URL:https://ladengislum.dk/kalender/have-kig-21-6/
CATEGORIES:Åbne arrangementer
END:VEVENT
END:VCALENDAR