BEGIN:VCALENDAR
VERSION:2.0
PRODID:-//Laden Gislum - ECPv6.15.20//NONSGML v1.0//EN
CALSCALE:GREGORIAN
METHOD:PUBLISH
X-WR-CALNAME:Laden Gislum
X-ORIGINAL-URL:https://ladengislum.dk
X-WR-CALDESC:Begivenheder for Laden Gislum
REFRESH-INTERVAL;VALUE=DURATION:PT1H
X-Robots-Tag:noindex
X-PUBLISHED-TTL:PT1H
BEGIN:VTIMEZONE
TZID:Europe/Copenhagen
BEGIN:DAYLIGHT
TZOFFSETFROM:+0100
TZOFFSETTO:+0200
TZNAME:CEST
DTSTART:20240331T010000
END:DAYLIGHT
BEGIN:STANDARD
TZOFFSETFROM:+0200
TZOFFSETTO:+0100
TZNAME:CET
DTSTART:20241027T010000
END:STANDARD
BEGIN:DAYLIGHT
TZOFFSETFROM:+0100
TZOFFSETTO:+0200
TZNAME:CEST
DTSTART:20250330T010000
END:DAYLIGHT
BEGIN:STANDARD
TZOFFSETFROM:+0200
TZOFFSETTO:+0100
TZNAME:CET
DTSTART:20251026T010000
END:STANDARD
BEGIN:DAYLIGHT
TZOFFSETFROM:+0100
TZOFFSETTO:+0200
TZNAME:CEST
DTSTART:20260329T010000
END:DAYLIGHT
BEGIN:STANDARD
TZOFFSETFROM:+0200
TZOFFSETTO:+0100
TZNAME:CET
DTSTART:20261025T010000
END:STANDARD
END:VTIMEZONE
BEGIN:VEVENT
DTSTART;VALUE=DATE:20251107
DTEND;VALUE=DATE:20251108
DTSTAMP:20260423T052530
CREATED:20250904T083535Z
LAST-MODIFIED:20250904T083743Z
UID:1160-1762473600-1762559999@ladengislum.dk
SUMMARY:CARSTEN KNUDSEN INTIM KONCERT
DESCRIPTION:FREDAG DEN 7. NOVEMBER 2025 18.30-23.30  \nCarsten kender vi alle fra “De Nattergale”\, som Gertrud Sand\, som Svineavler Gert Reinborg Jensen…og som hamrende musikalsk.\nFirnurlig\, hyggelig og bare SJOV…. Han er bevæbnet med guitarer\, en ukulele fra Hawaii\, sin mors gamle harmonium (salmecykel)\, wavinrør\, mundharpe m.m. Og selvfølgelig er der nye fortællinger om onkel Erling og hans kone Carlas uoverskuelige problemer med lædersofaens hudsygdomme.  \nDet bliver en kæmpe oplevelse\, når Carsten giver koncert i Laden.\nVi varmer op med en LÆKKER Buffet.\nSkynd Jer at købe billet\, for der bliver rift om de få pladser. \nPris: 375\,- \nMax 75 pladser \nDørene åbnes kl 18.00 \nParkering: Kør efter de grønne beachflag og p-skilte.\nLaden Gislum – Sjøstrupvej 48 – 9600 Aars   \nSidste tilmelding: 31. oktober \nKLIK PÅ LINKET HERUNDER FOR TILMELDING \nhttps://ladengislumshop.dk/shop/3-musik–foredrag/10-carsten-knudsen-fra-de-nattergale—koncert-07112025/
URL:https://ladengislum.dk/kalender/carsten-knudsen-intim-koncert/
LOCATION:Laden Gislum\, Sjøstrupvej 48\, Aars\, 9600\, Denmark
CATEGORIES:Åbne arrangementer
END:VEVENT
END:VCALENDAR