BEGIN:VCALENDAR
VERSION:2.0
PRODID:-//Laden Gislum - ECPv6.15.20//NONSGML v1.0//EN
CALSCALE:GREGORIAN
METHOD:PUBLISH
X-WR-CALNAME:Laden Gislum
X-ORIGINAL-URL:https://ladengislum.dk
X-WR-CALDESC:Begivenheder for Laden Gislum
REFRESH-INTERVAL;VALUE=DURATION:PT1H
X-Robots-Tag:noindex
X-PUBLISHED-TTL:PT1H
BEGIN:VTIMEZONE
TZID:Europe/Copenhagen
BEGIN:DAYLIGHT
TZOFFSETFROM:+0100
TZOFFSETTO:+0200
TZNAME:CEST
DTSTART:20250330T010000
END:DAYLIGHT
BEGIN:STANDARD
TZOFFSETFROM:+0200
TZOFFSETTO:+0100
TZNAME:CET
DTSTART:20251026T010000
END:STANDARD
BEGIN:DAYLIGHT
TZOFFSETFROM:+0100
TZOFFSETTO:+0200
TZNAME:CEST
DTSTART:20260329T010000
END:DAYLIGHT
BEGIN:STANDARD
TZOFFSETFROM:+0200
TZOFFSETTO:+0100
TZNAME:CET
DTSTART:20261025T010000
END:STANDARD
BEGIN:DAYLIGHT
TZOFFSETFROM:+0100
TZOFFSETTO:+0200
TZNAME:CEST
DTSTART:20270328T010000
END:DAYLIGHT
BEGIN:STANDARD
TZOFFSETFROM:+0200
TZOFFSETTO:+0100
TZNAME:CET
DTSTART:20271031T010000
END:STANDARD
END:VTIMEZONE
BEGIN:VEVENT
DTSTART;VALUE=DATE:20260911
DTEND;VALUE=DATE:20260912
DTSTAMP:20260423T051059
CREATED:20260110T052215Z
LAST-MODIFIED:20260127T075015Z
UID:1951-1789084800-1789171199@ladengislum.dk
SUMMARY:BAL I LADEN 11/9
DESCRIPTION:  \nBAL I LADEN\nFREDAG 11. SEPTEMBER 2026 KL. 18.00-01.00  \nKØB BILLET\n\nKom og få en skøn aften med en lækker buffet\, LIVE MUSIK og dans.  \nSure Gamle Mænd kommer med et meget bredt repertoire for alle aldersgrupper.  \nDørene åbnes 17.30. Spisning fra 18.30-21.00. Dans og hygge ved bordene 21.00-01.00.    \nPris: 295 kr  \n\nMax 75 pladser \nParkering: Kør efter de grønne beachflag og p-skilte.\nLaden Gislum – Sjøstrupvej 48 – 9600 Aars \n\nTILMELDING SENEST 4. SEPTEMBER
URL:https://ladengislum.dk/kalender/bal-i-laden-11-9/
CATEGORIES:Åbne arrangementer
END:VEVENT
END:VCALENDAR