BEGIN:VCALENDAR
VERSION:2.0
PRODID:-//Laden Gislum - ECPv6.15.20//NONSGML v1.0//EN
CALSCALE:GREGORIAN
METHOD:PUBLISH
X-WR-CALNAME:Laden Gislum
X-ORIGINAL-URL:https://ladengislum.dk
X-WR-CALDESC:Begivenheder for Laden Gislum
REFRESH-INTERVAL;VALUE=DURATION:PT1H
X-Robots-Tag:noindex
X-PUBLISHED-TTL:PT1H
BEGIN:VTIMEZONE
TZID:Europe/Copenhagen
BEGIN:DAYLIGHT
TZOFFSETFROM:+0100
TZOFFSETTO:+0200
TZNAME:CEST
DTSTART:20250330T010000
END:DAYLIGHT
BEGIN:STANDARD
TZOFFSETFROM:+0200
TZOFFSETTO:+0100
TZNAME:CET
DTSTART:20251026T010000
END:STANDARD
BEGIN:DAYLIGHT
TZOFFSETFROM:+0100
TZOFFSETTO:+0200
TZNAME:CEST
DTSTART:20260329T010000
END:DAYLIGHT
BEGIN:STANDARD
TZOFFSETFROM:+0200
TZOFFSETTO:+0100
TZNAME:CET
DTSTART:20261025T010000
END:STANDARD
BEGIN:DAYLIGHT
TZOFFSETFROM:+0100
TZOFFSETTO:+0200
TZNAME:CEST
DTSTART:20270328T010000
END:DAYLIGHT
BEGIN:STANDARD
TZOFFSETFROM:+0200
TZOFFSETTO:+0100
TZNAME:CET
DTSTART:20271031T010000
END:STANDARD
END:VTIMEZONE
BEGIN:VEVENT
DTSTART;VALUE=DATE:20260904
DTEND;VALUE=DATE:20260905
DTSTAMP:20260423T033619
CREATED:20260108T061040Z
LAST-MODIFIED:20260108T061040Z
UID:1893-1788480000-1788566399@ladengislum.dk
SUMMARY:Optaget
DESCRIPTION:Optaget
URL:https://ladengislum.dk/kalender/optaget-28/
CATEGORIES:Optaget
END:VEVENT
BEGIN:VEVENT
DTSTART;VALUE=DATE:20260905
DTEND;VALUE=DATE:20260906
DTSTAMP:20260423T033619
CREATED:20260108T061122Z
LAST-MODIFIED:20260108T061122Z
UID:1895-1788566400-1788652799@ladengislum.dk
SUMMARY:Optaget
DESCRIPTION:Optaget
URL:https://ladengislum.dk/kalender/optaget-29/
CATEGORIES:Optaget
END:VEVENT
BEGIN:VEVENT
DTSTART;VALUE=DATE:20260906
DTEND;VALUE=DATE:20260907
DTSTAMP:20260423T033619
CREATED:20260108T061209Z
LAST-MODIFIED:20260108T061209Z
UID:1897-1788652800-1788739199@ladengislum.dk
SUMMARY:Optaget
DESCRIPTION:Optaget
URL:https://ladengislum.dk/kalender/optaget-30/
CATEGORIES:Optaget
END:VEVENT
BEGIN:VEVENT
DTSTART;VALUE=DATE:20260911
DTEND;VALUE=DATE:20260912
DTSTAMP:20260423T033619
CREATED:20260110T052215Z
LAST-MODIFIED:20260127T075015Z
UID:1951-1789084800-1789171199@ladengislum.dk
SUMMARY:BAL I LADEN 11/9
DESCRIPTION:  \nBAL I LADEN\nFREDAG 11. SEPTEMBER 2026 KL. 18.00-01.00  \nKØB BILLET\n\nKom og få en skøn aften med en lækker buffet\, LIVE MUSIK og dans.  \nSure Gamle Mænd kommer med et meget bredt repertoire for alle aldersgrupper.  \nDørene åbnes 17.30. Spisning fra 18.30-21.00. Dans og hygge ved bordene 21.00-01.00.    \nPris: 295 kr  \n\nMax 75 pladser \nParkering: Kør efter de grønne beachflag og p-skilte.\nLaden Gislum – Sjøstrupvej 48 – 9600 Aars \n\nTILMELDING SENEST 4. SEPTEMBER
URL:https://ladengislum.dk/kalender/bal-i-laden-11-9/
CATEGORIES:Åbne arrangementer
END:VEVENT
BEGIN:VEVENT
DTSTART;VALUE=DATE:20260912
DTEND;VALUE=DATE:20260913
DTSTAMP:20260423T033619
CREATED:20260108T061312Z
LAST-MODIFIED:20260108T061312Z
UID:1899-1789171200-1789257599@ladengislum.dk
SUMMARY:Privat arrangement
DESCRIPTION:
URL:https://ladengislum.dk/kalender/privat-arrangement-9/
CATEGORIES:Optaget,Privat Arrangement
END:VEVENT
BEGIN:VEVENT
DTSTART;VALUE=DATE:20260919
DTEND;VALUE=DATE:20260920
DTSTAMP:20260423T033619
CREATED:20260108T061507Z
LAST-MODIFIED:20260108T061507Z
UID:1901-1789776000-1789862399@ladengislum.dk
SUMMARY:Privat arrangement
DESCRIPTION:Privat arrangement
URL:https://ladengislum.dk/kalender/privat-arrangement-10/
CATEGORIES:Optaget
END:VEVENT
BEGIN:VEVENT
DTSTART;VALUE=DATE:20260920
DTEND;VALUE=DATE:20260921
DTSTAMP:20260423T033619
CREATED:20260110T053037Z
LAST-MODIFIED:20260110T084502Z
UID:1957-1789862400-1789948799@ladengislum.dk
SUMMARY:HAVE-KIG 20/9
DESCRIPTION:HAVE-KIG\nSØNDAG 20. SEPTEMBER KL. 13.30-16.30  \nGRATIS ENTRE OG INGEN TILMELDING \nKom til årets sidste have-kig og få en hyggelig eftermiddag og se Laden Gislums parklignende have i september måned. \nDer er opstillet forskellige spil til dem der har lyst. \nDer kan købes kaffe og kage samt drikkevarer i gildesalen\, hvor man kan sidde og nyde en forfriskning. \nMan er også velkommen til at sidde på en af de store terrasser og nyde det gode vejr og stemningen. \n  \nParkering: Kør efter de grønne beachflag og p-skilte. \nLaden Gislum – Sjøstrupvej 48 – 9600 Aars
URL:https://ladengislum.dk/kalender/have-kig-20-9/
CATEGORIES:Åbne arrangementer
END:VEVENT
BEGIN:VEVENT
DTSTART;VALUE=DATE:20260922
DTEND;VALUE=DATE:20260923
DTSTAMP:20260423T033619
CREATED:20260110T053856Z
LAST-MODIFIED:20260127T075214Z
UID:1962-1790035200-1790121599@ladengislum.dk
SUMMARY:KREA KURSUS 22/9
DESCRIPTION:KREA KURSUS “HAVENS OVERFLOD”\nTIRSDAG 22. SEPTEMBER 2026 KL. 18.30-21.00  \nKØB BILLET\n\nDet er sensommer\, og der er masser af flotte farver i naturen. \nAnette Smed Nielsen fra Vegger vil vise os\, hvordan vi kan bruge naturens materialer i dekorationer. \nDu modtager en uge før kurset en mail med\, hvad du skal medbringe til kurset. \nDer vil være kaffe og kage undervejs. \nPris: 100 kr inkl kaffe og kage \n  \nTILMELDING SENEST 15. SEPTEMBER
URL:https://ladengislum.dk/kalender/krea-kursus-22-9/
CATEGORIES:Åbne arrangementer
END:VEVENT
BEGIN:VEVENT
DTSTART;VALUE=DATE:20260926
DTEND;VALUE=DATE:20260927
DTSTAMP:20260423T033619
CREATED:20260108T061557Z
LAST-MODIFIED:20260108T061557Z
UID:1903-1790380800-1790467199@ladengislum.dk
SUMMARY:Privat arrangement
DESCRIPTION:Privat arrangement
URL:https://ladengislum.dk/kalender/privat-arrangement-11/
CATEGORIES:Optaget
END:VEVENT
END:VCALENDAR