BEGIN:VCALENDAR
VERSION:2.0
PRODID:-//Laden Gislum - ECPv6.15.20//NONSGML v1.0//EN
CALSCALE:GREGORIAN
METHOD:PUBLISH
X-WR-CALNAME:Laden Gislum
X-ORIGINAL-URL:https://ladengislum.dk
X-WR-CALDESC:Begivenheder for Laden Gislum
REFRESH-INTERVAL;VALUE=DURATION:PT1H
X-Robots-Tag:noindex
X-PUBLISHED-TTL:PT1H
BEGIN:VTIMEZONE
TZID:Europe/Copenhagen
BEGIN:DAYLIGHT
TZOFFSETFROM:+0100
TZOFFSETTO:+0200
TZNAME:CEST
DTSTART:20250330T010000
END:DAYLIGHT
BEGIN:STANDARD
TZOFFSETFROM:+0200
TZOFFSETTO:+0100
TZNAME:CET
DTSTART:20251026T010000
END:STANDARD
BEGIN:DAYLIGHT
TZOFFSETFROM:+0100
TZOFFSETTO:+0200
TZNAME:CEST
DTSTART:20260329T010000
END:DAYLIGHT
BEGIN:STANDARD
TZOFFSETFROM:+0200
TZOFFSETTO:+0100
TZNAME:CET
DTSTART:20261025T010000
END:STANDARD
BEGIN:DAYLIGHT
TZOFFSETFROM:+0100
TZOFFSETTO:+0200
TZNAME:CEST
DTSTART:20270328T010000
END:DAYLIGHT
BEGIN:STANDARD
TZOFFSETFROM:+0200
TZOFFSETTO:+0100
TZNAME:CET
DTSTART:20271031T010000
END:STANDARD
END:VTIMEZONE
BEGIN:VEVENT
DTSTART;VALUE=DATE:20260719
DTEND;VALUE=DATE:20260720
DTSTAMP:20260423T003309
CREATED:20260421T165313Z
LAST-MODIFIED:20260421T165313Z
UID:2349-1784419200-1784505599@ladengislum.dk
SUMMARY:Optaget
DESCRIPTION:Optaget
URL:https://ladengislum.dk/kalender/optaget-33/
CATEGORIES:Optaget
END:VEVENT
BEGIN:VEVENT
DTSTART;VALUE=DATE:20260731
DTEND;VALUE=DATE:20260801
DTSTAMP:20260423T003309
CREATED:20260108T050523Z
LAST-MODIFIED:20260108T050523Z
UID:1871-1785456000-1785542399@ladengislum.dk
SUMMARY:Optaget
DESCRIPTION:Optaget
URL:https://ladengislum.dk/kalender/optaget-23/
CATEGORIES:Optaget
END:VEVENT
END:VCALENDAR