BEGIN:VCALENDAR
VERSION:2.0
PRODID:-//Laden Gislum - ECPv6.15.20//NONSGML v1.0//EN
CALSCALE:GREGORIAN
METHOD:PUBLISH
X-ORIGINAL-URL:https://ladengislum.dk
X-WR-CALDESC:Begivenheder for Laden Gislum
REFRESH-INTERVAL;VALUE=DURATION:PT1H
X-Robots-Tag:noindex
X-PUBLISHED-TTL:PT1H
BEGIN:VTIMEZONE
TZID:Europe/Copenhagen
BEGIN:DAYLIGHT
TZOFFSETFROM:+0100
TZOFFSETTO:+0200
TZNAME:CEST
DTSTART:20250330T010000
END:DAYLIGHT
BEGIN:STANDARD
TZOFFSETFROM:+0200
TZOFFSETTO:+0100
TZNAME:CET
DTSTART:20251026T010000
END:STANDARD
BEGIN:DAYLIGHT
TZOFFSETFROM:+0100
TZOFFSETTO:+0200
TZNAME:CEST
DTSTART:20260329T010000
END:DAYLIGHT
BEGIN:STANDARD
TZOFFSETFROM:+0200
TZOFFSETTO:+0100
TZNAME:CET
DTSTART:20261025T010000
END:STANDARD
BEGIN:DAYLIGHT
TZOFFSETFROM:+0100
TZOFFSETTO:+0200
TZNAME:CEST
DTSTART:20270328T010000
END:DAYLIGHT
BEGIN:STANDARD
TZOFFSETFROM:+0200
TZOFFSETTO:+0100
TZNAME:CET
DTSTART:20271031T010000
END:STANDARD
END:VTIMEZONE
BEGIN:VEVENT
DTSTART;VALUE=DATE:20260502
DTEND;VALUE=DATE:20260503
DTSTAMP:20260422T214005
CREATED:20260108T045646Z
LAST-MODIFIED:20260108T045646Z
UID:1851-1777680000-1777766399@ladengislum.dk
SUMMARY:Privat arrangement
DESCRIPTION:Privat arrangement
URL:https://ladengislum.dk/kalender/privat-arrangement-38/
CATEGORIES:Optaget
END:VEVENT
BEGIN:VEVENT
DTSTART;VALUE=DATE:20260509
DTEND;VALUE=DATE:20260510
DTSTAMP:20260422T214005
CREATED:20260108T045730Z
LAST-MODIFIED:20260108T045730Z
UID:1853-1778284800-1778371199@ladengislum.dk
SUMMARY:Privat arrangement
DESCRIPTION:Privat arrangement
URL:https://ladengislum.dk/kalender/privat-arrangement-39/
CATEGORIES:Optaget
END:VEVENT
BEGIN:VEVENT
DTSTART;VALUE=DATE:20260515
DTEND;VALUE=DATE:20260516
DTSTAMP:20260422T214005
CREATED:20260108T045832Z
LAST-MODIFIED:20260108T045832Z
UID:1855-1778803200-1778889599@ladengislum.dk
SUMMARY:Optaget
DESCRIPTION:Optaget
URL:https://ladengislum.dk/kalender/optaget-22/
CATEGORIES:Optaget
END:VEVENT
BEGIN:VEVENT
DTSTART;VALUE=DATE:20260516
DTEND;VALUE=DATE:20260517
DTSTAMP:20260422T214005
CREATED:20260108T045931Z
LAST-MODIFIED:20260108T045931Z
UID:1857-1778889600-1778975999@ladengislum.dk
SUMMARY:Privat arrangement
DESCRIPTION:Privat arrangement
URL:https://ladengislum.dk/kalender/privat-arrangement-40/
CATEGORIES:Optaget
END:VEVENT
BEGIN:VEVENT
DTSTART;VALUE=DATE:20260522
DTEND;VALUE=DATE:20260523
DTSTAMP:20260422T214005
CREATED:20260108T050023Z
LAST-MODIFIED:20260108T050023Z
UID:1859-1779408000-1779494399@ladengislum.dk
SUMMARY:Privat arrangement
DESCRIPTION:Privat arrangement
URL:https://ladengislum.dk/kalender/privat-arrangement-41/
CATEGORIES:Optaget
END:VEVENT
BEGIN:VEVENT
DTSTART;VALUE=DATE:20260523
DTEND;VALUE=DATE:20260524
DTSTAMP:20260422T214005
CREATED:20260108T050057Z
LAST-MODIFIED:20260108T050057Z
UID:1861-1779494400-1779580799@ladengislum.dk
SUMMARY:Privat arrangement
DESCRIPTION:Privat arrangement
URL:https://ladengislum.dk/kalender/privat-arrangement-42/
CATEGORIES:Optaget
END:VEVENT
BEGIN:VEVENT
DTSTART;VALUE=DATE:20260524
DTEND;VALUE=DATE:20260525
DTSTAMP:20260422T214005
CREATED:20260311T195138Z
LAST-MODIFIED:20260311T195241Z
UID:2322-1779580800-1779667199@ladengislum.dk
SUMMARY:Privat arrangement
DESCRIPTION:
URL:https://ladengislum.dk/kalender/privat-fest/
CATEGORIES:Optaget
END:VEVENT
BEGIN:VEVENT
DTSTART;VALUE=DATE:20260526
DTEND;VALUE=DATE:20260527
DTSTAMP:20260422T214005
CREATED:20260120T135953Z
LAST-MODIFIED:20260120T135953Z
UID:2081-1779753600-1779839999@ladengislum.dk
SUMMARY:Erhverv Himmerland\, kvindenetværksmøde kl 8.00-11.00
DESCRIPTION:Erhverv Himmerland\, kvindenetværksmøde kl 8.00-11.00
URL:https://ladengislum.dk/kalender/erhverv-himmerland-kvindenetvaerksmoede-kl-8-00-11-00-4/
CATEGORIES:Lukkede arrangementer
END:VEVENT
BEGIN:VEVENT
DTSTART;VALUE=DATE:20260530
DTEND;VALUE=DATE:20260531
DTSTAMP:20260422T214005
CREATED:20260108T050138Z
LAST-MODIFIED:20260108T050138Z
UID:1863-1780099200-1780185599@ladengislum.dk
SUMMARY:Privat arrangement
DESCRIPTION:Privat arrangement
URL:https://ladengislum.dk/kalender/privat-arrangement-43/
CATEGORIES:Optaget
END:VEVENT
BEGIN:VEVENT
DTSTART;VALUE=DATE:20260531
DTEND;VALUE=DATE:20260601
DTSTAMP:20260422T214005
CREATED:20260110T045545Z
LAST-MODIFIED:20260407T041321Z
UID:1935-1780185600-1780271999@ladengislum.dk
SUMMARY:HAVE-KIG 31/5
DESCRIPTION:HAVE-KIG\nSØNDAG 31. MAJ 2026 KL. 13.30-16.30 \nGRATIS ENTRE OG INGEN TILMELDING \nKom og få en hyggelig eftermiddag og se Laden Gislums parklignende have i slutningen af maj. \nDer er opstillet forskellige spil til dem der har lyst. \nDer kan købes kaffe og kage samt drikkevarer i gildesalen\, hvor man kan sidde og nyde en forfriskning. \n  \nParkering: Kør efter de grønne beachflag og p-skilte. \nLaden Gislum – Sjøstrupvej 48 – 9600 Aars. \n 
URL:https://ladengislum.dk/kalender/have-kig-31-5/
CATEGORIES:Åbne arrangementer
END:VEVENT
END:VCALENDAR