BEGIN:VCALENDAR
VERSION:2.0
PRODID:-//Laden Gislum - ECPv6.15.20//NONSGML v1.0//EN
CALSCALE:GREGORIAN
METHOD:PUBLISH
X-WR-CALNAME:Laden Gislum
X-ORIGINAL-URL:https://ladengislum.dk
X-WR-CALDESC:Begivenheder for Laden Gislum
REFRESH-INTERVAL;VALUE=DURATION:PT1H
X-Robots-Tag:noindex
X-PUBLISHED-TTL:PT1H
BEGIN:VTIMEZONE
TZID:Europe/Copenhagen
BEGIN:DAYLIGHT
TZOFFSETFROM:+0100
TZOFFSETTO:+0200
TZNAME:CEST
DTSTART:20240331T010000
END:DAYLIGHT
BEGIN:STANDARD
TZOFFSETFROM:+0200
TZOFFSETTO:+0100
TZNAME:CET
DTSTART:20241027T010000
END:STANDARD
BEGIN:DAYLIGHT
TZOFFSETFROM:+0100
TZOFFSETTO:+0200
TZNAME:CEST
DTSTART:20250330T010000
END:DAYLIGHT
BEGIN:STANDARD
TZOFFSETFROM:+0200
TZOFFSETTO:+0100
TZNAME:CET
DTSTART:20251026T010000
END:STANDARD
BEGIN:DAYLIGHT
TZOFFSETFROM:+0100
TZOFFSETTO:+0200
TZNAME:CEST
DTSTART:20260329T010000
END:DAYLIGHT
BEGIN:STANDARD
TZOFFSETFROM:+0200
TZOFFSETTO:+0100
TZNAME:CET
DTSTART:20261025T010000
END:STANDARD
END:VTIMEZONE
BEGIN:VEVENT
DTSTART;VALUE=DATE:20251205
DTEND;VALUE=DATE:20251206
DTSTAMP:20260423T020552
CREATED:20250904T084159Z
LAST-MODIFIED:20250904T084159Z
UID:1179-1764892800-1764979199@ladengislum.dk
SUMMARY:Firma julefrokost
DESCRIPTION:
URL:https://ladengislum.dk/kalender/firma-julefrokost/
CATEGORIES:Lukkede arrangementer
END:VEVENT
BEGIN:VEVENT
DTSTART;VALUE=DATE:20251206
DTEND;VALUE=DATE:20251207
DTSTAMP:20260423T020552
CREATED:20250904T084218Z
LAST-MODIFIED:20250904T084218Z
UID:1181-1764979200-1765065599@ladengislum.dk
SUMMARY:Optaget
DESCRIPTION:
URL:https://ladengislum.dk/kalender/optaget-8/
CATEGORIES:Optaget
END:VEVENT
BEGIN:VEVENT
DTSTART;VALUE=DATE:20251207
DTEND;VALUE=DATE:20251208
DTSTAMP:20260423T020552
CREATED:20250904T084317Z
LAST-MODIFIED:20250904T084317Z
UID:1183-1765065600-1765151999@ladengislum.dk
SUMMARY:Julemarked med boder
DESCRIPTION:SØNDAG DEN 7. DECEMBER 2025 KL 10.00 – 15.00 \nKom og oplev vores hyggelige julemarked med forskellige indendørs boder.\nDer er salg af æbleskiver\, gløgg\, kaffe\, te og kolde drikkevarer i baren.\nHyggelig julemusik under hele markedet. Nyd det hele ved de julepyntede borde. \nGRATIS ENTRE \nBemærk: INGEN JULETRÆSSALG  \nVi glæder os til at jer og ønske jer en glædelig jul  \nParkering: Kør efter de grønne beachflag og p-skilte.\n \nLaden Gislum – Sjøstrupvej 48 – 9600 Aars  
URL:https://ladengislum.dk/kalender/julemarked-med-boder/
LOCATION:Laden Gislum\, Sjøstrupvej 48\, Aars\, 9600\, Denmark
CATEGORIES:Åbne arrangementer
END:VEVENT
BEGIN:VEVENT
DTSTART;VALUE=DATE:20251212
DTEND;VALUE=DATE:20251213
DTSTAMP:20260423T020552
CREATED:20250904T084344Z
LAST-MODIFIED:20250904T084344Z
UID:1186-1765497600-1765583999@ladengislum.dk
SUMMARY:Optaget
DESCRIPTION:
URL:https://ladengislum.dk/kalender/optaget-9/
CATEGORIES:Optaget
END:VEVENT
BEGIN:VEVENT
DTSTART;VALUE=DATE:20251213
DTEND;VALUE=DATE:20251214
DTSTAMP:20260423T020552
CREATED:20250904T084410Z
LAST-MODIFIED:20250904T084410Z
UID:1188-1765584000-1765670399@ladengislum.dk
SUMMARY:Privat arrangement
DESCRIPTION:
URL:https://ladengislum.dk/kalender/privat-arrangement-8/
CATEGORIES:Lukkede arrangementer
END:VEVENT
BEGIN:VEVENT
DTSTART;VALUE=DATE:20251214
DTEND;VALUE=DATE:20251215
DTSTAMP:20260423T020552
CREATED:20250904T084424Z
LAST-MODIFIED:20250904T084424Z
UID:1190-1765670400-1765756799@ladengislum.dk
SUMMARY:Optaget
DESCRIPTION:
URL:https://ladengislum.dk/kalender/optaget-10/
CATEGORIES:Optaget
END:VEVENT
END:VCALENDAR