BEGIN:VCALENDAR
VERSION:2.0
PRODID:-//Laden Gislum - ECPv6.15.20//NONSGML v1.0//EN
CALSCALE:GREGORIAN
METHOD:PUBLISH
X-WR-CALNAME:Laden Gislum
X-ORIGINAL-URL:https://ladengislum.dk
X-WR-CALDESC:Begivenheder for Laden Gislum
REFRESH-INTERVAL;VALUE=DURATION:PT1H
X-Robots-Tag:noindex
X-PUBLISHED-TTL:PT1H
BEGIN:VTIMEZONE
TZID:Europe/Copenhagen
BEGIN:DAYLIGHT
TZOFFSETFROM:+0100
TZOFFSETTO:+0200
TZNAME:CEST
DTSTART:20280326T010000
END:DAYLIGHT
BEGIN:STANDARD
TZOFFSETFROM:+0200
TZOFFSETTO:+0100
TZNAME:CET
DTSTART:20281029T010000
END:STANDARD
BEGIN:DAYLIGHT
TZOFFSETFROM:+0100
TZOFFSETTO:+0200
TZNAME:CEST
DTSTART:20290325T010000
END:DAYLIGHT
BEGIN:STANDARD
TZOFFSETFROM:+0200
TZOFFSETTO:+0100
TZNAME:CET
DTSTART:20291028T010000
END:STANDARD
BEGIN:DAYLIGHT
TZOFFSETFROM:+0100
TZOFFSETTO:+0200
TZNAME:CEST
DTSTART:20300331T010000
END:DAYLIGHT
BEGIN:STANDARD
TZOFFSETFROM:+0200
TZOFFSETTO:+0100
TZNAME:CET
DTSTART:20301027T010000
END:STANDARD
END:VTIMEZONE
BEGIN:VEVENT
DTSTART;VALUE=DATE:20290421
DTEND;VALUE=DATE:20290422
DTSTAMP:20260423T213225
CREATED:20250904T090017Z
LAST-MODIFIED:20250904T090017Z
UID:1246-1871424000-1871510399@ladengislum.dk
SUMMARY:Privat arrangement
DESCRIPTION:
URL:https://ladengislum.dk/kalender/privat-arrangement-28/
CATEGORIES:Lukkede arrangementer
END:VEVENT
BEGIN:VEVENT
DTSTART;VALUE=DATE:20290428
DTEND;VALUE=DATE:20290429
DTSTAMP:20260423T213225
CREATED:20250904T090149Z
LAST-MODIFIED:20250904T090149Z
UID:1250-1872028800-1872115199@ladengislum.dk
SUMMARY:Privat arrangement
DESCRIPTION:
URL:https://ladengislum.dk/kalender/privat-arrangement-30/
CATEGORIES:Lukkede arrangementer
END:VEVENT
END:VCALENDAR