BEGIN:VCALENDAR
VERSION:2.0
PRODID:-//Laden Gislum - ECPv6.15.20//NONSGML v1.0//EN
CALSCALE:GREGORIAN
METHOD:PUBLISH
X-WR-CALNAME:Laden Gislum
X-ORIGINAL-URL:https://ladengislum.dk
X-WR-CALDESC:Begivenheder for Laden Gislum
REFRESH-INTERVAL;VALUE=DURATION:PT1H
X-Robots-Tag:noindex
X-PUBLISHED-TTL:PT1H
BEGIN:VTIMEZONE
TZID:Europe/Copenhagen
BEGIN:DAYLIGHT
TZOFFSETFROM:+0100
TZOFFSETTO:+0200
TZNAME:CEST
DTSTART:20240331T010000
END:DAYLIGHT
BEGIN:STANDARD
TZOFFSETFROM:+0200
TZOFFSETTO:+0100
TZNAME:CET
DTSTART:20241027T010000
END:STANDARD
BEGIN:DAYLIGHT
TZOFFSETFROM:+0100
TZOFFSETTO:+0200
TZNAME:CEST
DTSTART:20250330T010000
END:DAYLIGHT
BEGIN:STANDARD
TZOFFSETFROM:+0200
TZOFFSETTO:+0100
TZNAME:CET
DTSTART:20251026T010000
END:STANDARD
BEGIN:DAYLIGHT
TZOFFSETFROM:+0100
TZOFFSETTO:+0200
TZNAME:CEST
DTSTART:20260329T010000
END:DAYLIGHT
BEGIN:STANDARD
TZOFFSETFROM:+0200
TZOFFSETTO:+0100
TZNAME:CET
DTSTART:20261025T010000
END:STANDARD
END:VTIMEZONE
BEGIN:VEVENT
DTSTART;VALUE=DATE:20250905
DTEND;VALUE=DATE:20250907
DTSTAMP:20260423T105756
CREATED:20250903T093653Z
LAST-MODIFIED:20250903T095749Z
UID:483-1757030400-1757203199@ladengislum.dk
SUMMARY:Privat Arrangement
DESCRIPTION:
URL:https://ladengislum.dk/kalender/privat-arrangement/
LOCATION:Laden Gislum\, Sjøstrupvej 48\, Aars\, 9600\, Denmark
CATEGORIES:Lukkede arrangementer
END:VEVENT
BEGIN:VEVENT
DTSTART;VALUE=DATE:20250910
DTEND;VALUE=DATE:20250911
DTSTAMP:20260423T105756
CREATED:20250903T094356Z
LAST-MODIFIED:20250903T095743Z
UID:486-1757462400-1757548799@ladengislum.dk
SUMMARY:Foreningsarrangement
DESCRIPTION:
URL:https://ladengislum.dk/kalender/foreningsarrangement/
CATEGORIES:Lukkede arrangementer
END:VEVENT
BEGIN:VEVENT
DTSTART;VALUE=DATE:20250913
DTEND;VALUE=DATE:20250915
DTSTAMP:20260423T105756
CREATED:20250903T094434Z
LAST-MODIFIED:20250903T095735Z
UID:492-1757721600-1757894399@ladengislum.dk
SUMMARY:Privat arrangement
DESCRIPTION:
URL:https://ladengislum.dk/kalender/privat-arrangement-2/
CATEGORIES:Lukkede arrangementer
END:VEVENT
BEGIN:VEVENT
DTSTART;VALUE=DATE:20250920
DTEND;VALUE=DATE:20250922
DTSTAMP:20260423T105756
CREATED:20250904T081649Z
LAST-MODIFIED:20250904T081649Z
UID:1133-1758326400-1758499199@ladengislum.dk
SUMMARY:Privat arrangement
DESCRIPTION:
URL:https://ladengislum.dk/kalender/privat-arrangement-3/
CATEGORIES:Lukkede arrangementer
END:VEVENT
BEGIN:VEVENT
DTSTART;VALUE=DATE:20250925
DTEND;VALUE=DATE:20250926
DTSTAMP:20260423T105756
CREATED:20250904T082515Z
LAST-MODIFIED:20250904T082515Z
UID:1150-1758758400-1758844799@ladengislum.dk
SUMMARY:Privat arrangement
DESCRIPTION:
URL:https://ladengislum.dk/kalender/privat-arrangement-4/
CATEGORIES:Lukkede arrangementer
END:VEVENT
BEGIN:VEVENT
DTSTART;VALUE=DATE:20250927
DTEND;VALUE=DATE:20250928
DTSTAMP:20260423T105756
CREATED:20250904T082026Z
LAST-MODIFIED:20250904T082026Z
UID:1138-1758931200-1759017599@ladengislum.dk
SUMMARY:Foreningsarrangement
DESCRIPTION:
URL:https://ladengislum.dk/kalender/foreningsarrangement-2/
CATEGORIES:Lukkede arrangementer
END:VEVENT
END:VCALENDAR