BEGIN:VCALENDAR
VERSION:2.0
PRODID:-//Laden Gislum - ECPv6.15.20//NONSGML v1.0//EN
CALSCALE:GREGORIAN
METHOD:PUBLISH
X-ORIGINAL-URL:https://ladengislum.dk
X-WR-CALDESC:Begivenheder for Laden Gislum
REFRESH-INTERVAL;VALUE=DURATION:PT1H
X-Robots-Tag:noindex
X-PUBLISHED-TTL:PT1H
BEGIN:VTIMEZONE
TZID:Europe/Copenhagen
BEGIN:DAYLIGHT
TZOFFSETFROM:+0100
TZOFFSETTO:+0200
TZNAME:CEST
DTSTART:20250330T010000
END:DAYLIGHT
BEGIN:STANDARD
TZOFFSETFROM:+0200
TZOFFSETTO:+0100
TZNAME:CET
DTSTART:20251026T010000
END:STANDARD
BEGIN:DAYLIGHT
TZOFFSETFROM:+0100
TZOFFSETTO:+0200
TZNAME:CEST
DTSTART:20260329T010000
END:DAYLIGHT
BEGIN:STANDARD
TZOFFSETFROM:+0200
TZOFFSETTO:+0100
TZNAME:CET
DTSTART:20261025T010000
END:STANDARD
BEGIN:DAYLIGHT
TZOFFSETFROM:+0100
TZOFFSETTO:+0200
TZNAME:CEST
DTSTART:20270328T010000
END:DAYLIGHT
BEGIN:STANDARD
TZOFFSETFROM:+0200
TZOFFSETTO:+0100
TZNAME:CET
DTSTART:20271031T010000
END:STANDARD
END:VTIMEZONE
BEGIN:VEVENT
DTSTART;VALUE=DATE:20260531
DTEND;VALUE=DATE:20260601
DTSTAMP:20260423T004856
CREATED:20260110T045545Z
LAST-MODIFIED:20260407T041321Z
UID:1935-1780185600-1780271999@ladengislum.dk
SUMMARY:HAVE-KIG 31/5
DESCRIPTION:HAVE-KIG\nSØNDAG 31. MAJ 2026 KL. 13.30-16.30 \nGRATIS ENTRE OG INGEN TILMELDING \nKom og få en hyggelig eftermiddag og se Laden Gislums parklignende have i slutningen af maj. \nDer er opstillet forskellige spil til dem der har lyst. \nDer kan købes kaffe og kage samt drikkevarer i gildesalen\, hvor man kan sidde og nyde en forfriskning. \n  \nParkering: Kør efter de grønne beachflag og p-skilte. \nLaden Gislum – Sjøstrupvej 48 – 9600 Aars. \n 
URL:https://ladengislum.dk/kalender/have-kig-31-5/
CATEGORIES:Åbne arrangementer
END:VEVENT
END:VCALENDAR